BEGIN:VCALENDAR
VERSION:2.0
PRODID:Passeio de Reformados e Idosos
X-WR-CALNAME:Passeio de Reformados e Idosos
X-WR-TIMEZONE:Europe/Lisbon
X-PUBLISHED-TTL:P1W
BEGIN:VTIMEZONE
TZID:Europe/Lisbon
X-LIC-LOCATION:Europe/Lisbon
END:VTIMEZONE
BEGIN:VEVENT
UID:69e7430841b4d
DTSTART;VALUE=DATE:20250903
SEQUENCE:0
TRANSP:OPAQUE
DTEND;VALUE=DATE:20250904
SUMMARY:Passeio de Reformados e Idosos
CLASS:PUBLIC
X-MICROSOFT-CDO-ALLDAYEVENT:TRUE
DTSTAMP:20260421T092736Z
END:VEVENT
END:VCALENDAR