BEGIN:VCALENDAR
VERSION:2.0
PRODID:Rastreio Duplo (Oral e da Pele) 
X-WR-CALNAME:Rastreio Duplo (Oral e da Pele) 
X-WR-TIMEZONE:Europe/Lisbon
X-PUBLISHED-TTL:P1W
BEGIN:VTIMEZONE
TZID:Europe/Lisbon
X-LIC-LOCATION:Europe/Lisbon
END:VTIMEZONE
BEGIN:VEVENT
UID:69e741c7ec019
DTSTART;VALUE=DATE:20241109
SEQUENCE:0
TRANSP:OPAQUE
DTEND;VALUE=DATE:20241110
SUMMARY:Rastreio Duplo (Oral e da Pele) 
CLASS:PUBLIC
X-MICROSOFT-CDO-ALLDAYEVENT:TRUE
DTSTAMP:20260421T092215Z
END:VEVENT
END:VCALENDAR