BEGIN:VCALENDAR
VERSION:2.0
PRODID:FESTAS DO ESPIRITO SANTO  - OTA
X-WR-CALNAME:FESTAS DO ESPIRITO SANTO  - OTA
X-WR-TIMEZONE:Europe/Lisbon
X-PUBLISHED-TTL:P1W
BEGIN:VTIMEZONE
TZID:Europe/Lisbon
X-LIC-LOCATION:Europe/Lisbon
END:VTIMEZONE
BEGIN:VEVENT
UID:69e751b7cda99
DTSTART;VALUE=DATE:20250511
SEQUENCE:0
TRANSP:OPAQUE
DTEND;VALUE=DATE:20250512
SUMMARY:FESTAS DO ESPIRITO SANTO  - OTA
CLASS:PUBLIC
X-MICROSOFT-CDO-ALLDAYEVENT:TRUE
DTSTAMP:20260421T103015Z
END:VEVENT
END:VCALENDAR