BEGIN:VCALENDAR
VERSION:2.0
PRODID:ELEIÇÕES AUTÁRQUICAS 2025 
X-WR-CALNAME:ELEIÇÕES AUTÁRQUICAS 2025 
X-WR-TIMEZONE:Europe/Lisbon
X-PUBLISHED-TTL:P1W
BEGIN:VTIMEZONE
TZID:Europe/Lisbon
X-LIC-LOCATION:Europe/Lisbon
END:VTIMEZONE
BEGIN:VEVENT
UID:69e75199834eb
DTSTART;VALUE=DATE:20251012
SEQUENCE:0
TRANSP:OPAQUE
DTEND;VALUE=DATE:20251013
SUMMARY:ELEIÇÕES AUTÁRQUICAS 2025 
CLASS:PUBLIC
X-MICROSOFT-CDO-ALLDAYEVENT:TRUE
DTSTAMP:20260421T102945Z
END:VEVENT
END:VCALENDAR