BEGIN:VCALENDAR
VERSION:2.0
PRODID:MED ON TOUR - OTA
X-WR-CALNAME:MED ON TOUR - OTA
X-WR-TIMEZONE:Europe/Lisbon
X-PUBLISHED-TTL:P1W
BEGIN:VTIMEZONE
TZID:Europe/Lisbon
X-LIC-LOCATION:Europe/Lisbon
END:VTIMEZONE
BEGIN:VEVENT
UID:69e73e6b9a698
DTSTART;VALUE=DATE:20260418
SEQUENCE:0
TRANSP:OPAQUE
DTEND;VALUE=DATE:20260419
SUMMARY:MED ON TOUR - OTA
CLASS:PUBLIC
X-MICROSOFT-CDO-ALLDAYEVENT:TRUE
DTSTAMP:20260421T090755Z
END:VEVENT
END:VCALENDAR