BEGIN:VCALENDAR
VERSION:2.0
PRODID:WORKSHOP NUTRIÇÃO
X-WR-CALNAME:WORKSHOP NUTRIÇÃO
X-WR-TIMEZONE:Europe/Lisbon
X-PUBLISHED-TTL:P1W
BEGIN:VTIMEZONE
TZID:Europe/Lisbon
X-LIC-LOCATION:Europe/Lisbon
END:VTIMEZONE
BEGIN:VEVENT
UID:69e74172e7082
DTSTART;VALUE=DATE:20250222
SEQUENCE:0
TRANSP:OPAQUE
DTEND;VALUE=DATE:20250223
SUMMARY:WORKSHOP NUTRIÇÃO
CLASS:PUBLIC
X-MICROSOFT-CDO-ALLDAYEVENT:TRUE
DTSTAMP:20260421T092050Z
END:VEVENT
END:VCALENDAR