BEGIN:VCALENDAR
VERSION:2.0
PRODID:Passeio Botânico no Monumento Natural Local do Canhão Cársico de 
 Ota
X-WR-CALNAME:Passeio Botânico no Monumento Natural Local do Canhão Cársi
 co de Ota
X-WR-TIMEZONE:Europe/Lisbon
X-PUBLISHED-TTL:P1W
BEGIN:VTIMEZONE
TZID:Europe/Lisbon
X-LIC-LOCATION:Europe/Lisbon
END:VTIMEZONE
BEGIN:VEVENT
UID:69e742f765a41
DTSTART;VALUE=DATE:20241123
SEQUENCE:0
TRANSP:OPAQUE
DTEND;VALUE=DATE:20241124
SUMMARY:Passeio Botânico no Monumento Natural Local do Canhão Cársico de
  Ota
CLASS:PUBLIC
X-MICROSOFT-CDO-ALLDAYEVENT:TRUE
DTSTAMP:20260421T092719Z
END:VEVENT
END:VCALENDAR