BEGIN:VCALENDAR
VERSION:2.0
PRODID:25 ABRIL - 51.º ANIVERSÁRIO 
X-WR-CALNAME:25 ABRIL - 51.º ANIVERSÁRIO 
X-WR-TIMEZONE:Europe/Lisbon
X-PUBLISHED-TTL:P1W
BEGIN:VTIMEZONE
TZID:Europe/Lisbon
X-LIC-LOCATION:Europe/Lisbon
END:VTIMEZONE
BEGIN:VEVENT
UID:69e7443e68a81
DTSTART;VALUE=DATE:20250425
SEQUENCE:0
TRANSP:OPAQUE
DTEND;VALUE=DATE:20250426
SUMMARY:25 ABRIL - 51.º ANIVERSÁRIO 
CLASS:PUBLIC
X-MICROSOFT-CDO-ALLDAYEVENT:TRUE
DTSTAMP:20260421T093246Z
END:VEVENT
END:VCALENDAR