BEGIN:VCALENDAR
VERSION:2.0
PRODID:estas do Império do Divino Espírito Santo 2026 - OTA 26 DE ABRIL
X-WR-CALNAME:estas do Império do Divino Espírito Santo 2026 - OTA 26 DE A
 BRIL
X-WR-TIMEZONE:Europe/Lisbon
X-PUBLISHED-TTL:P1W
BEGIN:VTIMEZONE
TZID:Europe/Lisbon
X-LIC-LOCATION:Europe/Lisbon
END:VTIMEZONE
BEGIN:VEVENT
UID:69e750f43dd49
DTSTART;VALUE=DATE:20260426
SEQUENCE:0
TRANSP:OPAQUE
DTEND;VALUE=DATE:20260427
SUMMARY:estas do Império do Divino Espírito Santo 2026 - OTA 26 DE ABRIL
CLASS:PUBLIC
X-MICROSOFT-CDO-ALLDAYEVENT:TRUE
DTSTAMP:20260421T102700Z
END:VEVENT
END:VCALENDAR