BEGIN:VCALENDAR
VERSION:2.0
PRODID:Assembleia da Freguesia de Ota
X-WR-CALNAME:Assembleia da Freguesia de Ota
X-WR-TIMEZONE:Europe/Lisbon
X-PUBLISHED-TTL:P1W
BEGIN:VTIMEZONE
TZID:Europe/Lisbon
X-LIC-LOCATION:Europe/Lisbon
END:VTIMEZONE
BEGIN:VEVENT
UID:69e751f56c14b
DTSTART;VALUE=DATE:20250929
SEQUENCE:0
TRANSP:OPAQUE
DTEND;VALUE=DATE:20250930
SUMMARY:Assembleia da Freguesia de Ota
CLASS:PUBLIC
X-MICROSOFT-CDO-ALLDAYEVENT:TRUE
DTSTAMP:20260421T103117Z
END:VEVENT
END:VCALENDAR